BEGIN:VCALENDAR
PRODID:-//eluceo/ical//2.0/EN
VERSION:2.0
CALSCALE:GREGORIAN
BEGIN:VEVENT
UID:fb62fe95b2c92a9a9771f1027b29c705
DTSTAMP:20260422T132334Z
SUMMARY:«Big & Small Data»
DESCRIPTION:Webbplats: http://www.wilden-mann.ch/de\nTalare: Fabian Reinhar
 d\, CEO Seantis GmbH & Präsident FDP Stadt LU
URL:https://rotaryclubluzern.ch/sv/agenda/show/67780
DTSTART;TZID=Europe/Zurich:20161024T121500
DTEND;TZID=Europe/Zurich:20161024T121500
LOCATION:Hotel Wilden Mann
CATEGORIES:Rotary
END:VEVENT
BEGIN:VTIMEZONE
TZID:Europe/Zurich
BEGIN:DAYLIGHT
DTSTART:20161024T121500
TZNAME:CEST
TZOFFSETTO:+0200
TZOFFSETFROM:+0200
END:DAYLIGHT
END:VTIMEZONE
END:VCALENDAR
