BEGIN:VCALENDAR
PRODID:-//eluceo/ical//2.0/EN
VERSION:2.0
CALSCALE:GREGORIAN
BEGIN:VEVENT
UID:6e79de0d8fabc954b026cf2dcf5f1a04
DTSTAMP:20260420T125841Z
SUMMARY:Präsenz-Apéro
DESCRIPTION:Webbplats: http://www.grandhotel-national.com/de
URL:https://rotaryclubluzern.ch/sv/agenda/show/66927
DTSTART;TZID=Europe/Zurich:20161007T181500
DTEND;TZID=Europe/Zurich:20161007T181500
LOCATION:Hotel National - Luzern
CATEGORIES:Rotary
END:VEVENT
BEGIN:VTIMEZONE
TZID:Europe/Zurich
BEGIN:DAYLIGHT
DTSTART:20161007T181500
TZNAME:CEST
TZOFFSETTO:+0200
TZOFFSETFROM:+0200
END:DAYLIGHT
END:VTIMEZONE
END:VCALENDAR
