BEGIN:VCALENDAR
PRODID:-//eluceo/ical//2.0/EN
VERSION:2.0
CALSCALE:GREGORIAN
BEGIN:VEVENT
UID:7782ef1c5082b5a6d2983d15fa1ac4a3
DTSTAMP:20260423T094817Z
SUMMARY:Trauerlunch Rot. Felix Baur selig
DESCRIPTION:Webbplats: http://www.schweizerhof-luzern.ch\nTalare: Rot. Gero
 ld Beck
URL:https://rotaryclubluzern.ch/sv/agenda/show/66919
DTSTART;TZID=Europe/Zurich:20160905T121500
DTEND;TZID=Europe/Zurich:20160905T121500
LOCATION:Hotel Schweizerhof
CATEGORIES:Rotary
END:VEVENT
BEGIN:VTIMEZONE
TZID:Europe/Zurich
BEGIN:DAYLIGHT
DTSTART:20160905T121500
TZNAME:CEST
TZOFFSETTO:+0200
TZOFFSETFROM:+0200
END:DAYLIGHT
END:VTIMEZONE
END:VCALENDAR
