BEGIN:VCALENDAR
PRODID:-//eluceo/ical//2.0/EN
VERSION:2.0
CALSCALE:GREGORIAN
BEGIN:VEVENT
UID:12430856574beee5dd99f4e78532b4aa
DTSTAMP:20260420T110737Z
SUMMARY:Verkehrspolitik in der Schweiz
DESCRIPTION:Webbplats: http://www.schweizerhof-luzern.ch\nTalare: Rot. Walt
 er Frey\, VRP Emil Frey AG
URL:https://rotaryclubluzern.ch/sv/agenda/show/60131
DTSTART;TZID=Europe/Zurich:20160425T121500
DTEND;TZID=Europe/Zurich:20160425T121500
LOCATION:Hotel Schweizerhof
CATEGORIES:Rotary
END:VEVENT
BEGIN:VTIMEZONE
TZID:Europe/Zurich
BEGIN:DAYLIGHT
DTSTART:20160425T121500
TZNAME:CEST
TZOFFSETTO:+0200
TZOFFSETFROM:+0200
END:DAYLIGHT
END:VTIMEZONE
END:VCALENDAR
