BEGIN:VCALENDAR
PRODID:-//eluceo/ical//2.0/EN
VERSION:2.0
CALSCALE:GREGORIAN
BEGIN:VEVENT
UID:b8fdd1de7a1a9aebdca62370454f7656
DTSTAMP:20260424T003000Z
SUMMARY:Klassifikationsvortrag
DESCRIPTION:Webbplats: http://www.wilden-mann.ch\nTalare: Rot. Martin Nufer
URL:https://rotaryclubluzern.ch/sv/agenda/show/60122
DTSTART;TZID=Europe/Zurich:20160307T121500
DTEND;TZID=Europe/Zurich:20160307T121500
LOCATION:Hotel Wilden Mann
CATEGORIES:Rotary
END:VEVENT
BEGIN:VTIMEZONE
TZID:Europe/Zurich
BEGIN:STANDARD
DTSTART:20160307T121500
TZNAME:CET
TZOFFSETTO:+0100
TZOFFSETFROM:+0100
END:STANDARD
END:VTIMEZONE
END:VCALENDAR
