BEGIN:VCALENDAR
PRODID:-//eluceo/ical//2.0/EN
VERSION:2.0
CALSCALE:GREGORIAN
BEGIN:VEVENT
UID:71417f60f069de9c5811dd2637b04b9d
DTSTAMP:20260424T003252Z
SUMMARY:Markenkommunikation in der digitalen Welt
DESCRIPTION:Webbplats: http://www.wilden-mann.ch\nTalare: Rot. Dominique vo
 n Matt\, Präsident RC Zürich\, VRP Jung von Matt / Limmat AG
URL:https://rotaryclubluzern.ch/sv/agenda/show/58861
DTSTART;TZID=Europe/Zurich:20160118T121500
DTEND;TZID=Europe/Zurich:20160118T121500
LOCATION:Hotel Wilden Mann
CATEGORIES:Rotary
END:VEVENT
BEGIN:VTIMEZONE
TZID:Europe/Zurich
BEGIN:STANDARD
DTSTART:20160118T121500
TZNAME:CET
TZOFFSETTO:+0100
TZOFFSETFROM:+0100
END:STANDARD
END:VTIMEZONE
END:VCALENDAR
