BEGIN:VCALENDAR
PRODID:-//eluceo/ical//2.0/EN
VERSION:2.0
CALSCALE:GREGORIAN
BEGIN:VEVENT
UID:1b0c1707f0cec6ae6104af977931844f
DTSTAMP:20260419T133053Z
SUMMARY:Rad-Dampferflotte Vierwaldstättersee
DESCRIPTION:Webbplats: http://www.schweizerhof-luzern.ch\nTalare: Josef Gwe
 rder\, SGV-Dampfer-Experte
URL:https://rotaryclubluzern.ch/sv/agenda/show/53756
DTSTART;TZID=Europe/Zurich:20150810T121500
DTEND;TZID=Europe/Zurich:20150810T121500
LOCATION:Hotel Schweizerhof
CATEGORIES:Rotary
END:VEVENT
BEGIN:VTIMEZONE
TZID:Europe/Zurich
BEGIN:DAYLIGHT
DTSTART:20150810T121500
TZNAME:CEST
TZOFFSETTO:+0200
TZOFFSETFROM:+0200
END:DAYLIGHT
END:VTIMEZONE
END:VCALENDAR
