BEGIN:VCALENDAR
PRODID:-//eluceo/ical//2.0/EN
VERSION:2.0
CALSCALE:GREGORIAN
BEGIN:VEVENT
UID:154b7d66142e952383959bba9f94d130
DTSTAMP:20260419T133037Z
SUMMARY:Präsenzapéro - Hotel National Luzern
DESCRIPTION:Webbplats: http://www.grandhotel-national.com
URL:https://rotaryclubluzern.ch/sv/agenda/show/53755
DTSTART;TZID=Europe/Zurich:20150807T181500
DTEND;TZID=Europe/Zurich:20150807T181500
LOCATION:Hotel National
CATEGORIES:Rotary
END:VEVENT
BEGIN:VTIMEZONE
TZID:Europe/Zurich
BEGIN:DAYLIGHT
DTSTART:20150807T181500
TZNAME:CEST
TZOFFSETTO:+0200
TZOFFSETFROM:+0200
END:DAYLIGHT
END:VTIMEZONE
END:VCALENDAR
