BEGIN:VCALENDAR
PRODID:-//eluceo/ical//2.0/EN
VERSION:2.0
CALSCALE:GREGORIAN
BEGIN:VEVENT
UID:ebbc0d8da7042469a1ca7b9c1159b9e6
DTSTAMP:20260419T150348Z
SUMMARY:Rotary Frühstück – Hotel Schweizerhof Luzern
DESCRIPTION:Webbplats: http://www.schweizerhof-luzern.ch
URL:https://rotaryclubluzern.ch/sv/agenda/show/53748
DTSTART;TZID=Europe/Zurich:20150708T070000
DTEND;TZID=Europe/Zurich:20150708T070000
LOCATION:Hotel Schweizerhof
CATEGORIES:Rotary
END:VEVENT
BEGIN:VTIMEZONE
TZID:Europe/Zurich
BEGIN:DAYLIGHT
DTSTART:20150708T070000
TZNAME:CEST
TZOFFSETTO:+0200
TZOFFSETFROM:+0200
END:DAYLIGHT
END:VTIMEZONE
END:VCALENDAR
