BEGIN:VCALENDAR
PRODID:-//eluceo/ical//2.0/EN
VERSION:2.0
CALSCALE:GREGORIAN
BEGIN:VEVENT
UID:94e0a82012bdbca2411f3ce462c6987b
DTSTAMP:20260419T132425Z
SUMMARY:Vorstellen Programmjahr 1. Jahreshälfte
DESCRIPTION:Webbplats: http://www.schweizerhof-luzern.ch\nTalare: Rot. Stef
 an Epper
URL:https://rotaryclubluzern.ch/sv/agenda/show/53747
DTSTART;TZID=Europe/Zurich:20150706T121500
DTEND;TZID=Europe/Zurich:20150706T121500
LOCATION:Hotel Schweizerhof
CATEGORIES:Rotary
END:VEVENT
BEGIN:VTIMEZONE
TZID:Europe/Zurich
BEGIN:DAYLIGHT
DTSTART:20150706T121500
TZNAME:CEST
TZOFFSETTO:+0200
TZOFFSETFROM:+0200
END:DAYLIGHT
END:VTIMEZONE
END:VCALENDAR
