BEGIN:VCALENDAR
PRODID:-//eluceo/ical//2.0/EN
VERSION:2.0
CALSCALE:GREGORIAN
BEGIN:VEVENT
UID:bdc1ce86f6b17f81fcf196dc9f7e7494
DTSTAMP:20260424T130239Z
SUMMARY:Präsenzfrühstück 
DESCRIPTION:Webbplats: http://www.schweizerhof-luzern.ch
URL:https://rotaryclubluzern.ch/sv/agenda/show/39051
DTSTART;TZID=Europe/Zurich:20140416T070000
DTEND;TZID=Europe/Zurich:20140416T070000
LOCATION:Hotel Schweizerhof
CATEGORIES:Rotary
END:VEVENT
BEGIN:VTIMEZONE
TZID:Europe/Zurich
BEGIN:DAYLIGHT
DTSTART:20140416T070000
TZNAME:CEST
TZOFFSETTO:+0200
TZOFFSETFROM:+0200
END:DAYLIGHT
END:VTIMEZONE
END:VCALENDAR
