BEGIN:VCALENDAR
PRODID:-//eluceo/ical//2.0/EN
VERSION:2.0
CALSCALE:GREGORIAN
BEGIN:VEVENT
UID:4543619c77ad5ca0407eee603948c238
DTSTAMP:20260422T091406Z
SUMMARY:«Vom Umgang mit Klumpenrisiken.» Fritz Studer im Gespräch mit He
 ini Bachmann
DESCRIPTION:Webbplats: http://www.wilden-mann.ch\nTalare: Rot. Fritz Studer
  & Rot. Heini Bachmannn
URL:https://rotaryclubluzern.ch/sv/agenda/show/39042
DTSTART;TZID=Europe/Zurich:20140310T121500
DTEND;TZID=Europe/Zurich:20140310T121500
LOCATION:Hotel Wilden Mann
CATEGORIES:Rotary
END:VEVENT
BEGIN:VTIMEZONE
TZID:Europe/Zurich
BEGIN:STANDARD
DTSTART:20140310T121500
TZNAME:CET
TZOFFSETTO:+0100
TZOFFSETFROM:+0100
END:STANDARD
END:VTIMEZONE
END:VCALENDAR
