BEGIN:VCALENDAR
PRODID:-//eluceo/ical//2.0/EN
VERSION:2.0
CALSCALE:GREGORIAN
BEGIN:VEVENT
UID:d24a2472a4ac5df2b37f0304cba6a36d
DTSTAMP:20260423T162610Z
SUMMARY:Gemeinsamer Lunch mit dem RC Wasserturm
DESCRIPTION:Webbplats: http://www.schweizerhof-luzern.ch\nTalare: Rot. Pete
 r Brandenberger\, Programmchef RCW
URL:https://rotaryclubluzern.ch/sv/agenda/show/31025
DTSTART;TZID=Europe/Zurich:20130513T121500
DTEND;TZID=Europe/Zurich:20130513T121500
LOCATION:Hotel Schweizerhof
CATEGORIES:Rotary
END:VEVENT
BEGIN:VTIMEZONE
TZID:Europe/Zurich
BEGIN:DAYLIGHT
DTSTART:20130513T121500
TZNAME:CEST
TZOFFSETTO:+0200
TZOFFSETFROM:+0200
END:DAYLIGHT
END:VTIMEZONE
END:VCALENDAR
