BEGIN:VCALENDAR
PRODID:-//eluceo/ical//2.0/EN
VERSION:2.0
CALSCALE:GREGORIAN
BEGIN:VEVENT
UID:8bf5ff806c734a3b2d78e4d7ed2bbe0c
DTSTAMP:20260423T095100Z
SUMMARY:Vom Kontrollrat zum Gestaltungsrat: Überlegungen zur Entwicklung d
 er VR-Tätigkeit
DESCRIPTION:Sito web: http://www.schweizerhof-luzern.ch\nRelatore/i: Doris 
 Russi Schurter\, RAVRP LUKB
URL:https://rotaryclubluzern.ch/it/agenda/show/83510
DTSTART;TZID=Europe/Zurich:20180611T121500
DTEND;TZID=Europe/Zurich:20180611T121500
LOCATION:Hotel Schweizerhof
CATEGORIES:Rotary
END:VEVENT
BEGIN:VTIMEZONE
TZID:Europe/Zurich
BEGIN:DAYLIGHT
DTSTART:20180611T121500
TZNAME:CEST
TZOFFSETTO:+0200
TZOFFSETFROM:+0200
END:DAYLIGHT
END:VTIMEZONE
END:VCALENDAR
