BEGIN:VCALENDAR
PRODID:-//eluceo/ical//2.0/EN
VERSION:2.0
CALSCALE:GREGORIAN
BEGIN:VEVENT
UID:17b0e1792d362b42c0e7e9b9fbe6e553
DTSTAMP:20260425T005420Z
SUMMARY:Klassifikationsvortrag
DESCRIPTION:Vefsíða: http://www.schweizerhof-luzern.ch\nFyrirlesari(ar): 
 Rot. Daniel Roscher
URL:https://rotaryclubluzern.ch/is/agenda/show/76980
DTSTART;TZID=Europe/Zurich:20170710T121500
DTEND;TZID=Europe/Zurich:20170710T121500
LOCATION:Hotel Schweizerhof
CATEGORIES:Rotary
END:VEVENT
BEGIN:VTIMEZONE
TZID:Europe/Zurich
BEGIN:DAYLIGHT
DTSTART:20170710T121500
TZNAME:CEST
TZOFFSETTO:+0200
TZOFFSETFROM:+0200
END:DAYLIGHT
END:VTIMEZONE
END:VCALENDAR
