BEGIN:VCALENDAR
PRODID:-//eluceo/ical//2.0/EN
VERSION:2.0
CALSCALE:GREGORIAN
BEGIN:VEVENT
UID:83674282abd877c60d05959724396b50
DTSTAMP:20260425T005543Z
SUMMARY:2. Generalversammlung RC Luzern 2016/2017
DESCRIPTION:Vefsíða: http://www.schweizerhof-luzern.ch\nFyrirlesari(ar): 
 Rot. Kurt Gisler
URL:https://rotaryclubluzern.ch/is/agenda/show/71797
DTSTART;TZID=Europe/Zurich:20170626T121500
DTEND;TZID=Europe/Zurich:20170626T121500
LOCATION:Hotel Schweizerhof
CATEGORIES:Rotary
END:VEVENT
BEGIN:VTIMEZONE
TZID:Europe/Zurich
BEGIN:DAYLIGHT
DTSTART:20170626T121500
TZNAME:CEST
TZOFFSETTO:+0200
TZOFFSETFROM:+0200
END:DAYLIGHT
END:VTIMEZONE
END:VCALENDAR
