BEGIN:VCALENDAR
PRODID:-//eluceo/ical//2.0/EN
VERSION:2.0
CALSCALE:GREGORIAN
BEGIN:VEVENT
UID:2d95443a621a7fad8367d412264c8bd6
DTSTAMP:20260424T233943Z
SUMMARY:Jugenddienst
DESCRIPTION:Vefsíða: http://www.schweizerhof-luzern.ch\nFyrirlesari(ar): 
 Rot. Jost Huwyler
URL:https://rotaryclubluzern.ch/is/agenda/show/71794
DTSTART;TZID=Europe/Zurich:20170612T121500
DTEND;TZID=Europe/Zurich:20170612T121500
LOCATION:Hotel Schweizerhof
CATEGORIES:Rotary
END:VEVENT
BEGIN:VTIMEZONE
TZID:Europe/Zurich
BEGIN:DAYLIGHT
DTSTART:20170612T121500
TZNAME:CEST
TZOFFSETTO:+0200
TZOFFSETFROM:+0200
END:DAYLIGHT
END:VTIMEZONE
END:VCALENDAR
