BEGIN:VCALENDAR
PRODID:-//eluceo/ical//2.0/EN
VERSION:2.0
CALSCALE:GREGORIAN
BEGIN:VEVENT
UID:aff6b85d2e81afa5952a85fa858b4c96
DTSTAMP:20260425T024706Z
SUMMARY:Über Uber
DESCRIPTION:Vefsíða: http://www.schweizerhof-luzern.ch\nFyrirlesari(ar): 
 Rasoul Jalali\, CEO Uber Switzerland
URL:https://rotaryclubluzern.ch/is/agenda/show/71783
DTSTART;TZID=Europe/Zurich:20170403T121500
DTEND;TZID=Europe/Zurich:20170403T121500
LOCATION:Hotel Schweizerhof
CATEGORIES:Rotary
END:VEVENT
BEGIN:VTIMEZONE
TZID:Europe/Zurich
BEGIN:DAYLIGHT
DTSTART:20170403T121500
TZNAME:CEST
TZOFFSETTO:+0200
TZOFFSETFROM:+0200
END:DAYLIGHT
END:VTIMEZONE
END:VCALENDAR
