BEGIN:VCALENDAR
PRODID:-//eluceo/ical//2.0/EN
VERSION:2.0
CALSCALE:GREGORIAN
BEGIN:VEVENT
UID:53bfafda87d2f641d1feda3baebc5bcf
DTSTAMP:20260420T105844Z
SUMMARY:«Traditionelle Chinesische Medizin»
DESCRIPTION:Vefsíða: http://www.wilden-mann.ch/de\nFyrirlesari(ar): Ursul
 a Schmid\, Therapeutin & Heilpraktikerin
URL:https://rotaryclubluzern.ch/is/agenda/show/67786
DTSTART;TZID=Europe/Zurich:20161114T121500
DTEND;TZID=Europe/Zurich:20161114T121500
LOCATION:Hotel Wilden Mann
CATEGORIES:Rotary
END:VEVENT
BEGIN:VTIMEZONE
TZID:Europe/Zurich
BEGIN:STANDARD
DTSTART:20161114T121500
TZNAME:CET
TZOFFSETTO:+0100
TZOFFSETFROM:+0100
END:STANDARD
END:VTIMEZONE
END:VCALENDAR
