BEGIN:VCALENDAR
PRODID:-//eluceo/ical//2.0/EN
VERSION:2.0
CALSCALE:GREGORIAN
BEGIN:VEVENT
UID:b4a9435c6373c7c4c76d9f3b29d34295
DTSTAMP:20260424T101739Z
SUMMARY:«Ein Spaziergang nach Japan»
DESCRIPTION:Vefsíða: http://www.schweizerhof-luzern.ch\nFyrirlesari(ar): 
 Ronja Sakata\, akaritaste
URL:https://rotaryclubluzern.ch/is/agenda/show/65474
DTSTART;TZID=Europe/Zurich:20160822T121500
DTEND;TZID=Europe/Zurich:20160822T121500
LOCATION:Hotel Schweizerhof
CATEGORIES:Rotary
END:VEVENT
BEGIN:VTIMEZONE
TZID:Europe/Zurich
BEGIN:DAYLIGHT
DTSTART:20160822T121500
TZNAME:CEST
TZOFFSETTO:+0200
TZOFFSETFROM:+0200
END:DAYLIGHT
END:VTIMEZONE
END:VCALENDAR
