BEGIN:VCALENDAR
PRODID:-//eluceo/ical//2.0/EN
VERSION:2.0
CALSCALE:GREGORIAN
BEGIN:VEVENT
UID:8897ee860b8f0fb00298006a268f36bb
DTSTAMP:20260425T030215Z
SUMMARY:«Teufelssaat»
DESCRIPTION:Vefsíða: http://www.schweizerhof-luzern.ch\nFyrirlesari(ar): 
 Bruno Heini\, Conditor\, Bäcker & Krimi-Autor
URL:https://rotaryclubluzern.ch/is/agenda/show/65465
DTSTART;TZID=Europe/Zurich:20160711T121500
DTEND;TZID=Europe/Zurich:20160711T121500
LOCATION:Hotel Schweizerhof
CATEGORIES:Rotary
END:VEVENT
BEGIN:VTIMEZONE
TZID:Europe/Zurich
BEGIN:DAYLIGHT
DTSTART:20160711T121500
TZNAME:CEST
TZOFFSETTO:+0200
TZOFFSETFROM:+0200
END:DAYLIGHT
END:VTIMEZONE
END:VCALENDAR
