BEGIN:VCALENDAR
PRODID:-//eluceo/ical//2.0/EN
VERSION:2.0
CALSCALE:GREGORIAN
BEGIN:VEVENT
UID:7ffb3b2a7291f620ee7af06949f11c7d
DTSTAMP:20260423T101315Z
SUMMARY:Lunch mit Lions Club
DESCRIPTION:Site internet: http://www.schweizerhof-luzern.ch
URL:https://rotaryclubluzern.ch/fr/agenda/show/77026
DTSTART;TZID=Europe/Zurich:20170904T121500
DTEND;TZID=Europe/Zurich:20170904T121500
LOCATION:Hotel Schweizerhof
CATEGORIES:Rotary
END:VEVENT
BEGIN:VTIMEZONE
TZID:Europe/Zurich
BEGIN:DAYLIGHT
DTSTART:20170904T121500
TZNAME:CEST
TZOFFSETTO:+0200
TZOFFSETFROM:+0200
END:DAYLIGHT
END:VTIMEZONE
END:VCALENDAR
