BEGIN:VCALENDAR
PRODID:-//eluceo/ical//2.0/EN
VERSION:2.0
CALSCALE:GREGORIAN
BEGIN:VEVENT
UID:fe2860bc7b427bcb7b1c4241d9141271
DTSTAMP:20260420T064558Z
SUMMARY:Garaventa AG – Hi-Tech Seilbahnen Zentralschweiz
DESCRIPTION:Site internet: http://www.wilden-mann.ch\nConférencier(s): Bea
 t Musfeld
URL:https://rotaryclubluzern.ch/fr/agenda/show/60126
DTSTART;TZID=Europe/Zurich:20160321T121500
DTEND;TZID=Europe/Zurich:20160321T121500
LOCATION:Hotel Wilden Mann
CATEGORIES:Rotary
END:VEVENT
BEGIN:VTIMEZONE
TZID:Europe/Zurich
BEGIN:STANDARD
DTSTART:20160321T121500
TZNAME:CET
TZOFFSETTO:+0100
TZOFFSETFROM:+0100
END:STANDARD
END:VTIMEZONE
END:VCALENDAR
