BEGIN:VCALENDAR
PRODID:-//eluceo/ical//2.0/EN
VERSION:2.0
CALSCALE:GREGORIAN
BEGIN:VEVENT
UID:56c4ef7560b23823c4336274d46f822e
DTSTAMP:20260419T215026Z
SUMMARY:«Grün – Haus der Farbe » Höhere Fachschule für Farbgestaltun
 g
DESCRIPTION:Site internet: http://www.schweizerhof-luzern.ch\nConférencier
 (s): Beat Soller
URL:https://rotaryclubluzern.ch/fr/agenda/show/43798
DTSTART;TZID=Europe/Zurich:20140721T121500
DTEND;TZID=Europe/Zurich:20140721T121500
LOCATION:Hotel Schweizerhof
CATEGORIES:Rotary
END:VEVENT
BEGIN:VTIMEZONE
TZID:Europe/Zurich
BEGIN:DAYLIGHT
DTSTART:20140721T121500
TZNAME:CEST
TZOFFSETTO:+0200
TZOFFSETFROM:+0200
END:DAYLIGHT
END:VTIMEZONE
END:VCALENDAR
