BEGIN:VCALENDAR
PRODID:-//eluceo/ical//2.0/EN
VERSION:2.0
CALSCALE:GREGORIAN
BEGIN:VEVENT
UID:9a08222c1eab426b5e012bddda282b13
DTSTAMP:20260419T215354Z
SUMMARY:II. GV des RC Luzern
DESCRIPTION:Bitte:    Absolut pünktliches Erscheinen\n\n11:30    Ap
 éro\, offeriert von der SNG\n12:15    Ablegen SNG-Steg am Schwanenplat
 z\n13:30    Anlegen  SNG-Steg am Schwanenplatz\n\nKosten alles inkl. A
 péro\, Vorspeise\, Hauptgang und Kaffee mit Gebäck    CHF 50\nSite in
 ternet: http://sng.ch/spirit_of_lucerne.html\nConférencier(s): Rot. Beat 
 Kreienbu&#776\;hl\, RCL Präsident
URL:https://rotaryclubluzern.ch/fr/agenda/show/39956
DTSTART;TZID=Europe/Zurich:20140623T113000
DTEND;TZID=Europe/Zurich:20140623T113000
LOCATION:auf dem SNG-Schiff Spirit of Lucerne
CATEGORIES:Rotary
END:VEVENT
BEGIN:VTIMEZONE
TZID:Europe/Zurich
BEGIN:DAYLIGHT
DTSTART:20140623T113000
TZNAME:CEST
TZOFFSETTO:+0200
TZOFFSETFROM:+0200
END:DAYLIGHT
END:VTIMEZONE
END:VCALENDAR
