BEGIN:VCALENDAR
PRODID:-//eluceo/ical//2.0/EN
VERSION:2.0
CALSCALE:GREGORIAN
BEGIN:VEVENT
UID:8e16234662ccb4977d6c0476e3d9198f
DTSTAMP:20260422T125630Z
SUMMARY:«Not- und andere Fälle»
DESCRIPTION:Site internet: http://www.wilden-mann.ch\nConférencier(s): Sar
 ah Weber-Holl\, Dipl. Expertin NDS HF Notfall
URL:https://rotaryclubluzern.ch/fr/agenda/show/39046
DTSTART;TZID=Europe/Zurich:20140331T121500
DTEND;TZID=Europe/Zurich:20140331T121500
LOCATION:Hotel Wilden Mann
CATEGORIES:Rotary
END:VEVENT
BEGIN:VTIMEZONE
TZID:Europe/Zurich
BEGIN:DAYLIGHT
DTSTART:20140331T121500
TZNAME:CEST
TZOFFSETTO:+0200
TZOFFSETFROM:+0200
END:DAYLIGHT
END:VTIMEZONE
END:VCALENDAR
