BEGIN:VCALENDAR
PRODID:-//eluceo/ical//2.0/EN
VERSION:2.0
CALSCALE:GREGORIAN
BEGIN:VEVENT
UID:33ca92ad7589971e4dcb5fdc4d329d25
DTSTAMP:20260423T095820Z
SUMMARY:«Gedanken zu Weihnachten»
DESCRIPTION:Site internet: http://www.wilden-mann.ch\nConférencier(s): Rot
 . Gerold Beck
URL:https://rotaryclubluzern.ch/fr/agenda/show/35994
DTSTART;TZID=Europe/Zurich:20131223T000000
DTEND;TZID=Europe/Zurich:20131223T000000
LOCATION:Hotel Wilden Mann
CATEGORIES:Rotary
END:VEVENT
BEGIN:VTIMEZONE
TZID:Europe/Zurich
BEGIN:STANDARD
DTSTART:20131223T000000
TZNAME:CET
TZOFFSETTO:+0100
TZOFFSETFROM:+0100
END:STANDARD
END:VTIMEZONE
END:VCALENDAR
