BEGIN:VCALENDAR
PRODID:-//eluceo/ical//2.0/EN
VERSION:2.0
CALSCALE:GREGORIAN
BEGIN:VEVENT
UID:52300244a24f6cfc7cea3c06624e59bf
DTSTAMP:20260419T202513Z
SUMMARY:Jugenddienst 1
DESCRIPTION:Site internet: http://www.wilden-mann.ch\nConférencier(s): Rot
 . Norbert Schmassmann
URL:https://rotaryclubluzern.ch/fr/agenda/show/35990
DTSTART;TZID=Europe/Zurich:20131209T121500
DTEND;TZID=Europe/Zurich:20131209T121500
LOCATION:Hotel Wilden Mann
CATEGORIES:Rotary
END:VEVENT
BEGIN:VTIMEZONE
TZID:Europe/Zurich
BEGIN:STANDARD
DTSTART:20131209T121500
TZNAME:CET
TZOFFSETTO:+0100
TZOFFSETFROM:+0100
END:STANDARD
END:VTIMEZONE
END:VCALENDAR
