BEGIN:VCALENDAR
PRODID:-//eluceo/ical//2.0/EN
VERSION:2.0
CALSCALE:GREGORIAN
BEGIN:VEVENT
UID:c358fa16b4676386a928248225010326
DTSTAMP:20260419T202319Z
SUMMARY:Präsenzfrühstück
DESCRIPTION:Site internet: http://www.schweizerhof-luzern.ch/
URL:https://rotaryclubluzern.ch/fr/agenda/show/35988
DTSTART;TZID=Europe/Zurich:20131120T070000
DTEND;TZID=Europe/Zurich:20131120T070000
LOCATION:Hotel Schweizerhof
CATEGORIES:Rotary
END:VEVENT
BEGIN:VTIMEZONE
TZID:Europe/Zurich
BEGIN:STANDARD
DTSTART:20131120T070000
TZNAME:CET
TZOFFSETTO:+0100
TZOFFSETFROM:+0100
END:STANDARD
END:VTIMEZONE
END:VCALENDAR
