BEGIN:VCALENDAR
PRODID:-//eluceo/ical//2.0/EN
VERSION:2.0
CALSCALE:GREGORIAN
BEGIN:VEVENT
UID:5ede76db368f21fb3c528d4e8411c247
DTSTAMP:20260419T201944Z
SUMMARY:«Mit allen Registern – Heiteres\, Peinliches\, Skurriles und And
 eres aus dem abenteuerlichen Leben eines Musikers»
DESCRIPTION:Conférencier(s): Rot. André Manz\, Organist und Buchautor
URL:https://rotaryclubluzern.ch/fr/agenda/show/34604
DTSTART;TZID=Europe/Zurich:20131125T121500
DTEND;TZID=Europe/Zurich:20131125T121500
LOCATION:Hotel Wilden Mann
CATEGORIES:Rotary
END:VEVENT
BEGIN:VTIMEZONE
TZID:Europe/Zurich
BEGIN:STANDARD
DTSTART:20131125T121500
TZNAME:CET
TZOFFSETTO:+0100
TZOFFSETFROM:+0100
END:STANDARD
END:VTIMEZONE
END:VCALENDAR
