BEGIN:VCALENDAR
PRODID:-//eluceo/ical//2.0/EN
VERSION:2.0
CALSCALE:GREGORIAN
BEGIN:VEVENT
UID:e34e83476883875d685df4be4cc300e8
DTSTAMP:20260419T203222Z
SUMMARY:Rotary – Eine kurze Geschichte
DESCRIPTION:Conférencier(s): Rot Françis Clottu
URL:https://rotaryclubluzern.ch/fr/agenda/show/34602
DTSTART;TZID=Europe/Zurich:20131111T121500
DTEND;TZID=Europe/Zurich:20131111T121500
LOCATION:Hotel Wilden Mann
CATEGORIES:Rotary
END:VEVENT
BEGIN:VTIMEZONE
TZID:Europe/Zurich
BEGIN:STANDARD
DTSTART:20131111T121500
TZNAME:CET
TZOFFSETTO:+0100
TZOFFSETFROM:+0100
END:STANDARD
END:VTIMEZONE
END:VCALENDAR
