BEGIN:VCALENDAR
PRODID:-//eluceo/ical//2.0/EN
VERSION:2.0
CALSCALE:GREGORIAN
BEGIN:VEVENT
UID:b0dacfaf13b54f0fce6bb3f6a4141cb9
DTSTAMP:20260423T095704Z
SUMMARY: Polit-Kompass
DESCRIPTION:Conférencier(s): Rot. Georges Theiler
URL:https://rotaryclubluzern.ch/fr/agenda/show/34600
DTSTART;TZID=Europe/Zurich:20131028T121500
DTEND;TZID=Europe/Zurich:20131028T121500
LOCATION:Hotel Wilden Mann
CATEGORIES:Rotary
END:VEVENT
BEGIN:VTIMEZONE
TZID:Europe/Zurich
BEGIN:STANDARD
DTSTART:20131028T121500
TZNAME:CET
TZOFFSETTO:+0100
TZOFFSETFROM:+0100
END:STANDARD
END:VTIMEZONE
END:VCALENDAR
