BEGIN:VCALENDAR
PRODID:-//eluceo/ical//2.0/EN
VERSION:2.0
CALSCALE:GREGORIAN
BEGIN:VEVENT
UID:11b18eec26003a139f1ee1aedd9e100f
DTSTAMP:20260423T130318Z
SUMMARY:«Trauerlunch zum Gedenken an Rot. Karl Wick»
DESCRIPTION:Conférencier(s): Rot. Walter Zimmermann
URL:https://rotaryclubluzern.ch/fr/agenda/show/29580
DTSTART;TZID=Europe/Zurich:20130311T121500
DTEND;TZID=Europe/Zurich:20130311T121500
LOCATION:Hotel Wilden Mann
CATEGORIES:Rotary
END:VEVENT
BEGIN:VTIMEZONE
TZID:Europe/Zurich
BEGIN:STANDARD
DTSTART:20130311T121500
TZNAME:CET
TZOFFSETTO:+0100
TZOFFSETFROM:+0100
END:STANDARD
END:VTIMEZONE
END:VCALENDAR
