BEGIN:VCALENDAR
PRODID:-//eluceo/ical//2.0/EN
VERSION:2.0
CALSCALE:GREGORIAN
BEGIN:VEVENT
UID:95b292863c430ebfd8c405de15b6c51d
DTSTAMP:20260423T130515Z
SUMMARY:«Die Kunst des Orgelbaus»
DESCRIPTION:Conférencier(s): Simon Hebeisen\, Orgelbau Goll AG
URL:https://rotaryclubluzern.ch/fr/agenda/show/26055
DTSTART;TZID=Europe/Zurich:20121022T121500
DTEND;TZID=Europe/Zurich:20121022T121500
LOCATION:Hotel Wilden Mann
CATEGORIES:Rotary
END:VEVENT
BEGIN:VTIMEZONE
TZID:Europe/Zurich
BEGIN:DAYLIGHT
DTSTART:20121022T121500
TZNAME:CEST
TZOFFSETTO:+0200
TZOFFSETFROM:+0200
END:DAYLIGHT
END:VTIMEZONE
END:VCALENDAR
