BEGIN:VCALENDAR
PRODID:-//eluceo/ical//2.0/EN
VERSION:2.0
CALSCALE:GREGORIAN
BEGIN:VEVENT
UID:d8bba4ed6e86a1e3a8e778131ac31889
DTSTAMP:20260420T151725Z
SUMMARY:Präsenz-Frühstück
DESCRIPTION:Sitio web: http://www.schweizerhof-luzern.ch
URL:https://rotaryclubluzern.ch/es/agenda/show/83523
DTSTART;TZID=Europe/Zurich:20180404T070000
DTEND;TZID=Europe/Zurich:20180404T070000
LOCATION:Hotel Schweizerhof
CATEGORIES:Rotary
END:VEVENT
BEGIN:VTIMEZONE
TZID:Europe/Zurich
BEGIN:DAYLIGHT
DTSTART:20180404T070000
TZNAME:CEST
TZOFFSETTO:+0200
TZOFFSETFROM:+0200
END:DAYLIGHT
END:VTIMEZONE
END:VCALENDAR
