BEGIN:VCALENDAR
PRODID:-//eluceo/ical//2.0/EN
VERSION:2.0
CALSCALE:GREGORIAN
BEGIN:VEVENT
UID:02ce7e67342836a71e0507e064523a11
DTSTAMP:20260420T151552Z
SUMMARY:Klassifikationsvortrag
DESCRIPTION:Sitio web: http://www.schweizerhof-luzern.ch\nOrador(es): Rot. 
 Rico Fehr
URL:https://rotaryclubluzern.ch/es/agenda/show/83507
DTSTART;TZID=Europe/Zurich:20180521T121500
DTEND;TZID=Europe/Zurich:20180521T121500
LOCATION:Hotel Schweizerhof
CATEGORIES:Rotary
END:VEVENT
BEGIN:VTIMEZONE
TZID:Europe/Zurich
BEGIN:DAYLIGHT
DTSTART:20180521T121500
TZNAME:CEST
TZOFFSETTO:+0200
TZOFFSETFROM:+0200
END:DAYLIGHT
END:VTIMEZONE
END:VCALENDAR
