BEGIN:VCALENDAR
PRODID:-//eluceo/ical//2.0/EN
VERSION:2.0
CALSCALE:GREGORIAN
BEGIN:VEVENT
UID:148e09c8bb8920679fd7d80cc4857f06
DTSTAMP:20260420T134646Z
SUMMARY:Jagen – archetypische Herausforderung für alle Sinne
DESCRIPTION:Sitio web: http://www.schweizerhof-luzern.ch\nOrador(es): Josef
  Muggli\, Inhaber wildfisch
URL:https://rotaryclubluzern.ch/es/agenda/show/77029
DTSTART;TZID=Europe/Zurich:20170925T121500
DTEND;TZID=Europe/Zurich:20170925T121500
LOCATION:Hotel Schweizerhof
CATEGORIES:Rotary
END:VEVENT
BEGIN:VTIMEZONE
TZID:Europe/Zurich
BEGIN:DAYLIGHT
DTSTART:20170925T121500
TZNAME:CEST
TZOFFSETTO:+0200
TZOFFSETFROM:+0200
END:DAYLIGHT
END:VTIMEZONE
END:VCALENDAR
