BEGIN:VCALENDAR
PRODID:-//eluceo/ical//2.0/EN
VERSION:2.0
CALSCALE:GREGORIAN
BEGIN:VEVENT
UID:ec900e8867cb46a7945b80f8f68ab0ee
DTSTAMP:20260422T132437Z
SUMMARY:Montessori Pädagogik
DESCRIPTION:Sitio web: http://www.schweizerhof-luzern.ch\nOrador(es): Silvi
 e Ragabliati\, Lehrerin & Pädagogin
URL:https://rotaryclubluzern.ch/es/agenda/show/71796
DTSTART;TZID=Europe/Zurich:20170619T121500
DTEND;TZID=Europe/Zurich:20170619T121500
LOCATION:Hotel Schweizerhof
CATEGORIES:Rotary
END:VEVENT
BEGIN:VTIMEZONE
TZID:Europe/Zurich
BEGIN:DAYLIGHT
DTSTART:20170619T121500
TZNAME:CEST
TZOFFSETTO:+0200
TZOFFSETFROM:+0200
END:DAYLIGHT
END:VTIMEZONE
END:VCALENDAR
