BEGIN:VCALENDAR
PRODID:-//eluceo/ical//2.0/EN
VERSION:2.0
CALSCALE:GREGORIAN
BEGIN:VEVENT
UID:65b10e5832365096889b9eb3d2b8b08f
DTSTAMP:20260422T132533Z
SUMMARY:Tschäderi Bumm
DESCRIPTION:Sitio web: http://www.wilden-mann.ch/de\nOrador(es): Fasnachts
 überraschung
URL:https://rotaryclubluzern.ch/es/agenda/show/71778
DTSTART;TZID=Europe/Zurich:20170227T121500
DTEND;TZID=Europe/Zurich:20170227T121500
LOCATION:Hotel Wilden Mann
CATEGORIES:Rotary
END:VEVENT
BEGIN:VTIMEZONE
TZID:Europe/Zurich
BEGIN:STANDARD
DTSTART:20170227T121500
TZNAME:CET
TZOFFSETTO:+0100
TZOFFSETFROM:+0100
END:STANDARD
END:VTIMEZONE
END:VCALENDAR
