BEGIN:VCALENDAR
PRODID:-//eluceo/ical//2.0/EN
VERSION:2.0
CALSCALE:GREGORIAN
BEGIN:VEVENT
UID:48bcb7d5993d8f58c103813cc5ffd6b5
DTSTAMP:20260423T101643Z
SUMMARY:Rotary-Frühstück
DESCRIPTION:Sitio web: http://www.schweizerhof-luzern.ch
URL:https://rotaryclubluzern.ch/es/agenda/show/71764
DTSTART;TZID=Europe/Zurich:20170510T070000
DTEND;TZID=Europe/Zurich:20170510T070000
LOCATION:Hotel Schweizerhof
CATEGORIES:Rotary
END:VEVENT
BEGIN:VTIMEZONE
TZID:Europe/Zurich
BEGIN:DAYLIGHT
DTSTART:20170510T070000
TZNAME:CEST
TZOFFSETTO:+0200
TZOFFSETFROM:+0200
END:DAYLIGHT
END:VTIMEZONE
END:VCALENDAR
