BEGIN:VCALENDAR
PRODID:-//eluceo/ical//2.0/EN
VERSION:2.0
CALSCALE:GREGORIAN
BEGIN:VEVENT
UID:664fd027e9c65fcb90b4b280abc8dbb2
DTSTAMP:20260422T105720Z
SUMMARY:Rotary-Frühstück
DESCRIPTION:
URL:https://rotaryclubluzern.ch/es/agenda/show/71759
DTSTART;TZID=Europe/Zurich:20170301T070000
DTEND;TZID=Europe/Zurich:20170301T070000
LOCATION:Hotel Schweizerhof
CATEGORIES:Rotary
END:VEVENT
BEGIN:VTIMEZONE
TZID:Europe/Zurich
BEGIN:STANDARD
DTSTART:20170301T070000
TZNAME:CET
TZOFFSETTO:+0100
TZOFFSETFROM:+0100
END:STANDARD
END:VTIMEZONE
END:VCALENDAR
