BEGIN:VCALENDAR
PRODID:-//eluceo/ical//2.0/EN
VERSION:2.0
CALSCALE:GREGORIAN
BEGIN:VEVENT
UID:7039af0ae152c60e44beb5fa3d2f84c2
DTSTAMP:20260424T091317Z
SUMMARY:Rotary-Frühstück
DESCRIPTION:Sitio web: http://www.schweizerhof-luzern.ch\nOrador(es): kein 
 Referat
URL:https://rotaryclubluzern.ch/es/agenda/show/62465
DTSTART;TZID=Europe/Zurich:20160622T070000
DTEND;TZID=Europe/Zurich:20160622T070000
LOCATION:Hotel Schweizerhof
CATEGORIES:Rotary
END:VEVENT
BEGIN:VTIMEZONE
TZID:Europe/Zurich
BEGIN:DAYLIGHT
DTSTART:20160622T070000
TZNAME:CEST
TZOFFSETTO:+0200
TZOFFSETFROM:+0200
END:DAYLIGHT
END:VTIMEZONE
END:VCALENDAR
