BEGIN:VCALENDAR
PRODID:-//eluceo/ical//2.0/EN
VERSION:2.0
CALSCALE:GREGORIAN
BEGIN:VEVENT
UID:983d8c7d61c38af5560411b6356fbf13
DTSTAMP:20260422T132605Z
SUMMARY:Jugend-Austausch
DESCRIPTION:Sitio web: http://www.schweizerhof-luzern.ch\nOrador(es): Rot. 
 Norbert Schmassmann
URL:https://rotaryclubluzern.ch/es/agenda/show/60138
DTSTART;TZID=Europe/Zurich:20160606T121500
DTEND;TZID=Europe/Zurich:20160606T121500
LOCATION:Hotel Schweizerhof
CATEGORIES:Rotary
END:VEVENT
BEGIN:VTIMEZONE
TZID:Europe/Zurich
BEGIN:DAYLIGHT
DTSTART:20160606T121500
TZNAME:CEST
TZOFFSETTO:+0200
TZOFFSETFROM:+0200
END:DAYLIGHT
END:VTIMEZONE
END:VCALENDAR
