BEGIN:VCALENDAR
PRODID:-//eluceo/ical//2.0/EN
VERSION:2.0
CALSCALE:GREGORIAN
BEGIN:VEVENT
UID:93ef1eda0829a2de1bc7bb86248ae4dd
DTSTAMP:20260424T194314Z
SUMMARY:«Alte Geschichten ins heute setzen!»
DESCRIPTION:Sitio web: http://www.wilden-mann.ch\nOrador(es): Florian Flohr
 \, Theologe und Marketingexperte
URL:https://rotaryclubluzern.ch/es/agenda/show/39043
DTSTART;TZID=Europe/Zurich:20140317T121500
DTEND;TZID=Europe/Zurich:20140317T121500
LOCATION:Hotel Wilden Mann
CATEGORIES:Rotary
END:VEVENT
BEGIN:VTIMEZONE
TZID:Europe/Zurich
BEGIN:STANDARD
DTSTART:20140317T121500
TZNAME:CET
TZOFFSETTO:+0100
TZOFFSETFROM:+0100
END:STANDARD
END:VTIMEZONE
END:VCALENDAR
