BEGIN:VCALENDAR
PRODID:-//eluceo/ical//2.0/EN
VERSION:2.0
CALSCALE:GREGORIAN
BEGIN:VEVENT
UID:a7497e081c01be4c0409c5d8455f32b8
DTSTAMP:20260419T230121Z
SUMMARY:Kunst und Können
DESCRIPTION:Sitio web: http://www.schweizerhof-luzern.ch\nOrador(es): Exzel
 lenz Bischof Felix Gmu&#776\;r
URL:https://rotaryclubluzern.ch/es/agenda/show/31031
DTSTART;TZID=Europe/Zurich:20130624T000000
DTEND;TZID=Europe/Zurich:20130624T000000
LOCATION:Hotel Schweizerhof
CATEGORIES:Rotary
END:VEVENT
BEGIN:VTIMEZONE
TZID:Europe/Zurich
BEGIN:DAYLIGHT
DTSTART:20130624T000000
TZNAME:CEST
TZOFFSETTO:+0200
TZOFFSETFROM:+0200
END:DAYLIGHT
END:VTIMEZONE
END:VCALENDAR
