BEGIN:VCALENDAR
PRODID:-//eluceo/ical//2.0/EN
VERSION:2.0
CALSCALE:GREGORIAN
BEGIN:VEVENT
UID:690ad5611d3e3dca6783b93419436ffa
DTSTAMP:20260419T230541Z
SUMMARY:Klassifikationsvortrag
DESCRIPTION:Sitio web: http://www.schweizerhof-luzern.ch\nOrador(es): Rot. 
 Guido Graf
URL:https://rotaryclubluzern.ch/es/agenda/show/31028
DTSTART;TZID=Europe/Zurich:20130603T000000
DTEND;TZID=Europe/Zurich:20130603T000000
LOCATION:Hotel Schweizerhof
CATEGORIES:Rotary
END:VEVENT
BEGIN:VTIMEZONE
TZID:Europe/Zurich
BEGIN:DAYLIGHT
DTSTART:20130603T000000
TZNAME:CEST
TZOFFSETTO:+0200
TZOFFSETFROM:+0200
END:DAYLIGHT
END:VTIMEZONE
END:VCALENDAR
