BEGIN:VCALENDAR
PRODID:-//eluceo/ical//2.0/EN
VERSION:2.0
CALSCALE:GREGORIAN
BEGIN:VEVENT
UID:113956bd9c2b99cdc00a6b5350807bad
DTSTAMP:20260419T230422Z
SUMMARY:Lucerne Festival – Kunst auf Weltklasseniveau
DESCRIPTION:Sitio web: http://www.schweizerhof-luzern.ch\nOrador(es): Micha
 el Haefliger\, Intendant
URL:https://rotaryclubluzern.ch/es/agenda/show/31027
DTSTART;TZID=Europe/Zurich:20130527T121500
DTEND;TZID=Europe/Zurich:20130527T121500
LOCATION:Hotel Schweizerhof
CATEGORIES:Rotary
END:VEVENT
BEGIN:VTIMEZONE
TZID:Europe/Zurich
BEGIN:DAYLIGHT
DTSTART:20130527T121500
TZNAME:CEST
TZOFFSETTO:+0200
TZOFFSETFROM:+0200
END:DAYLIGHT
END:VTIMEZONE
END:VCALENDAR
