BEGIN:VCALENDAR
PRODID:-//eluceo/ical//2.0/EN
VERSION:2.0
CALSCALE:GREGORIAN
BEGIN:VEVENT
UID:22628efa88f06b8dcb2be2b4ebde5cae
DTSTAMP:20260419T230711Z
SUMMARY:Die Kunst einen Weltkonzern zu führen
DESCRIPTION:Sitio web: http://www.schweizerhof-luzern.ch\nOrador(es): Dr. F
 ranz B. Humer\, VRP Roche
URL:https://rotaryclubluzern.ch/es/agenda/show/31024
DTSTART;TZID=Europe/Zurich:20130506T121500
DTEND;TZID=Europe/Zurich:20130506T121500
LOCATION:Hotel Schweizerhof
CATEGORIES:Rotary
END:VEVENT
BEGIN:VTIMEZONE
TZID:Europe/Zurich
BEGIN:DAYLIGHT
DTSTART:20130506T121500
TZNAME:CEST
TZOFFSETTO:+0200
TZOFFSETFROM:+0200
END:DAYLIGHT
END:VTIMEZONE
END:VCALENDAR
