BEGIN:VCALENDAR
PRODID:-//eluceo/ical//2.0/EN
VERSION:2.0
CALSCALE:GREGORIAN
BEGIN:VEVENT
UID:83efd5c825d8e8d7934b5900e98ebcd9
DTSTAMP:20260423T221449Z
SUMMARY:«Klassifikationsvortrag»
DESCRIPTION:Orador(es): Rot. Michael Thiel\, Chefarzt der Augenklinik am Ka
 ntonsspital Luzern
URL:https://rotaryclubluzern.ch/es/agenda/show/29583
DTSTART;TZID=Europe/Zurich:20130408T121500
DTEND;TZID=Europe/Zurich:20130408T121500
LOCATION:Hotel Schweizerhof
CATEGORIES:Rotary
END:VEVENT
BEGIN:VTIMEZONE
TZID:Europe/Zurich
BEGIN:DAYLIGHT
DTSTART:20130408T121500
TZNAME:CEST
TZOFFSETTO:+0200
TZOFFSETFROM:+0200
END:DAYLIGHT
END:VTIMEZONE
END:VCALENDAR
