BEGIN:VCALENDAR
PRODID:-//eluceo/ical//2.0/EN
VERSION:2.0
CALSCALE:GREGORIAN
BEGIN:VEVENT
UID:bc73e3471f8af9ca7221d8d6960ac80b
DTSTAMP:20260419T211357Z
SUMMARY:«Zeitgenössische Kunst in China – Nachhaltig oder exotisch»
DESCRIPTION:Orador(es): Urs Meile\, Galerie Urs Meile Luzern\, Peking
URL:https://rotaryclubluzern.ch/es/agenda/show/24714
DTSTART;TZID=Europe/Zurich:20120709T121500
DTEND;TZID=Europe/Zurich:20120709T121500
LOCATION:Hotel Schweizerhof
CATEGORIES:Rotary
END:VEVENT
BEGIN:VTIMEZONE
TZID:Europe/Zurich
BEGIN:DAYLIGHT
DTSTART:20120709T121500
TZNAME:CEST
TZOFFSETTO:+0200
TZOFFSETFROM:+0200
END:DAYLIGHT
END:VTIMEZONE
END:VCALENDAR
